BEGIN:VCALENDAR
VERSION:2.0
PRODID:-//Gordon Davies Real Estate/EPL//NONSGML v1.0//EN
METHOD:PUBLISH
BEGIN:VEVENT
DTSTART:20200229T120000
DTEND:20200229T123000
LOCATION:20 Meadow View BUSSELTON, WA 6280
URL:https://gdre.com.au/property/20-meadow-view-busselton-wa-6280/
TRANSP:OPAQUE
SEQUENCE:0
UID:36506251582671716
DTSTAMP:20200225T230156Z
SUMMARY:Home Open - Easy care family home or ideal holiday home
DESCRIPTION:Situated at the end of a quiet cul-de-sac this three bedroom\, two bathroom home built by Southbound homes is in a fantastic location facing the banks of the Vasse River and surrounding bushland. You can enjoy easy access to the nearby walking paths and bike tracks that take you along the river to Busselton just 1.5km away.\n\nBuilt in 2014 it is a modern home with spacious rooms and neutral d&#xE9\;cor throughout. The kitchen is ideal for entertaining with plenty of bench space\, Westinghouse appliances\, a large fridge recess and pantry and is surrounded by an open plan living area leading out to a covered alfresco.\n\nOther features:\n&#x2022\;  The laundry is a good size with plenty of storage space.\n&#x2022\;  All three bedrooms have built in robes\n&#x2022\;  Good separation of sleeping and living areas\n&#x2022\;  Family/living/kitchen area and master bedroom are air-conditioned\n&#x2022\;  Solar/electric hot water system\n&#x2022\;  Fully-fenced rear garden creating an ideal play space for young children\n&#x2022\; Double carport\n\nSituated on a 561sqm block with fully reticulated\, low maintenance gardens making it an easy-care family home or ideal holiday home. Previously rented at $380 per week.\n\nInspection by appointment only. Please phone Alison to arrange.
PRIORITY:1
CLASS:PUBLIC
BEGIN:VALARM
TRIGGER:-PT10080M
ACTION:DISPLAY
DESCRIPTION:Reminder
END:VALARM
END:VEVENT
END:VCALENDAR
